BEGIN:VCALENDAR
VERSION:2.0
PRODID:-//New England Oldsmobile Club - ECPv6.15.17.1//NONSGML v1.0//EN
CALSCALE:GREGORIAN
METHOD:PUBLISH
X-ORIGINAL-URL:https://www.neolds.com
X-WR-CALDESC:Events for New England Oldsmobile Club
REFRESH-INTERVAL;VALUE=DURATION:PT1H
X-Robots-Tag:noindex
X-PUBLISHED-TTL:PT1H
BEGIN:VTIMEZONE
TZID:America/New_York
BEGIN:DAYLIGHT
TZOFFSETFROM:-0500
TZOFFSETTO:-0400
TZNAME:EDT
DTSTART:20250309T070000
END:DAYLIGHT
BEGIN:STANDARD
TZOFFSETFROM:-0400
TZOFFSETTO:-0500
TZNAME:EST
DTSTART:20251102T060000
END:STANDARD
BEGIN:DAYLIGHT
TZOFFSETFROM:-0500
TZOFFSETTO:-0400
TZNAME:EDT
DTSTART:20260308T070000
END:DAYLIGHT
BEGIN:STANDARD
TZOFFSETFROM:-0400
TZOFFSETTO:-0500
TZNAME:EST
DTSTART:20261101T060000
END:STANDARD
BEGIN:DAYLIGHT
TZOFFSETFROM:-0500
TZOFFSETTO:-0400
TZNAME:EDT
DTSTART:20270314T070000
END:DAYLIGHT
BEGIN:STANDARD
TZOFFSETFROM:-0400
TZOFFSETTO:-0500
TZNAME:EST
DTSTART:20271107T060000
END:STANDARD
END:VTIMEZONE
BEGIN:VEVENT
DTSTART;TZID=America/New_York:20260509T100000
DTEND;TZID=America/New_York:20260509T140000
DTSTAMP:20260423T030132
CREATED:20260315T193608Z
LAST-MODIFIED:20260315T193830Z
UID:1764-1778320800-1778335200@www.neolds.com
SUMMARY:Eastern Mass GMO Spring Dust-Off
DESCRIPTION:  \n  \nGMO Dust-Off Flyer \n 
URL:https://www.neolds.com/event/eastern-mass-gmo-spring-dust-off/
LOCATION:Herbert Candy Mansion\, 574 Hartford Turnpike\, Shrewsbury\, MA
END:VEVENT
BEGIN:VEVENT
DTSTART;VALUE=DATE:20260517
DTEND;VALUE=DATE:20260518
DTSTAMP:20260423T030132
CREATED:20260127T193019Z
LAST-MODIFIED:20260127T193019Z
UID:1293-1778976000-1779062399@www.neolds.com
SUMMARY:Long Island-NYC Chapter Spring Dust Off
DESCRIPTION: 
URL:https://www.neolds.com/event/long-island-nyc-chapter-spring-dust-off/
LOCATION:Four Towns Fireman Training Center\, Merrick\, NY
END:VEVENT
BEGIN:VEVENT
DTSTART;TZID=America/New_York:20260517T090000
DTEND;TZID=America/New_York:20260517T150000
DTSTAMP:20260423T030132
CREATED:20260418T185134Z
LAST-MODIFIED:20260418T185134Z
UID:1777-1779008400-1779030000@www.neolds.com
SUMMARY:Long Island\, NYC Olds Club Spring Dust Off (all makes)
DESCRIPTION:   The 49th Annual Oldsmobile Club Spring Dust-Off is scheduled for Sunday May 17th 2026 – Mark your calendars now!
URL:https://www.neolds.com/event/long-island-nyc-olds-club-spring-dust-off-all-makes/
LOCATION:Four Towns Fireman Training Center\, Merrick\, NY
END:VEVENT
BEGIN:VEVENT
DTSTART;VALUE=DATE:20260722
DTEND;VALUE=DATE:20260726
DTSTAMP:20260423T030132
CREATED:20250114T221245Z
LAST-MODIFIED:20260127T184921Z
UID:1546-1784678400-1785023999@www.neolds.com
SUMMARY:2026 OCA Nationals
DESCRIPTION:Indianapolis\, IN  July 22-25  2026 \nMore info to come
URL:https://www.neolds.com/event/2025-oca-nationals/
LOCATION:CT
END:VEVENT
BEGIN:VEVENT
DTSTART;TZID=America/New_York:20260920T090000
DTEND;TZID=America/New_York:20260920T150000
DTSTAMP:20260423T030132
CREATED:20250502T000516Z
LAST-MODIFIED:20260127T191530Z
UID:1572-1789894800-1789916400@www.neolds.com
SUMMARY:2026 NEOC Annual All Oldsmobile Car Show
DESCRIPTION:
URL:https://www.neolds.com/event/2025-neoc-annual-all-oldsmobile-car-show/
LOCATION:Southington Drive-in\, Plantsville\, CT
ORGANIZER;CN="New England Oldsmobile Club":MAILTO:gmorris01@aol.com
END:VEVENT
BEGIN:VEVENT
DTSTART;VALUE=DATE:20260930
DTEND;VALUE=DATE:20261005
DTSTAMP:20260423T030132
CREATED:20260418T184706Z
LAST-MODIFIED:20260418T184706Z
UID:1775-1790726400-1791158399@www.neolds.com
SUMMARY:Fall Carlisle
DESCRIPTION:Annual Fall Carlisle Swap Meet. \nCarlisle Fairgrounds\, Carlisle\, PA
URL:https://www.neolds.com/event/fall-carlisle/
LOCATION:Carlisle Fairgrounds
END:VEVENT
BEGIN:VEVENT
DTSTART;TZID=America/New_York:20261011T090000
DTEND;TZID=America/New_York:20261011T150000
DTSTAMP:20260423T030132
CREATED:20260418T184301Z
LAST-MODIFIED:20260418T184301Z
UID:1773-1791709200-1791730800@www.neolds.com
SUMMARY:Delaware Valley Chapter All Olds Show
DESCRIPTION:21st Annual All Oldsmobile Fall Show
URL:https://www.neolds.com/event/delaware-valley-chapter-all-olds-show/
LOCATION:Kerr Park\, 122 Wallace Ave\, Downingtown\, PA
END:VEVENT
END:VCALENDAR